BEGIN:VCALENDAR
VERSION:2.0
PRODID:-//Patricio Tlacaelel - ECPv6.15.20//NONSGML v1.0//EN
CALSCALE:GREGORIAN
METHOD:PUBLISH
X-WR-CALNAME:Patricio Tlacaelel
X-ORIGINAL-URL:https://tlacaelelfuentes.com
X-WR-CALDESC:Events for Patricio Tlacaelel
REFRESH-INTERVAL;VALUE=DURATION:PT1H
X-Robots-Tag:noindex
X-PUBLISHED-TTL:PT1H
BEGIN:VTIMEZONE
TZID:America/Denver
BEGIN:DAYLIGHT
TZOFFSETFROM:-0700
TZOFFSETTO:-0600
TZNAME:MDT
DTSTART:20250309T090000
END:DAYLIGHT
BEGIN:STANDARD
TZOFFSETFROM:-0600
TZOFFSETTO:-0700
TZNAME:MST
DTSTART:20251102T080000
END:STANDARD
BEGIN:DAYLIGHT
TZOFFSETFROM:-0700
TZOFFSETTO:-0600
TZNAME:MDT
DTSTART:20260308T090000
END:DAYLIGHT
BEGIN:STANDARD
TZOFFSETFROM:-0600
TZOFFSETTO:-0700
TZNAME:MST
DTSTART:20261101T080000
END:STANDARD
BEGIN:DAYLIGHT
TZOFFSETFROM:-0700
TZOFFSETTO:-0600
TZNAME:MDT
DTSTART:20270314T090000
END:DAYLIGHT
BEGIN:STANDARD
TZOFFSETFROM:-0600
TZOFFSETTO:-0700
TZNAME:MST
DTSTART:20271107T080000
END:STANDARD
END:VTIMEZONE
BEGIN:VEVENT
DTSTART;TZID=America/Denver:20260709T100000
DTEND;TZID=America/Denver:20260711T170000
DTSTAMP:20260424T063523
CREATED:20260109T181542Z
LAST-MODIFIED:20260109T181546Z
UID:10000001-1783591200-1783789200@tlacaelelfuentes.com
SUMMARY:Art Santa Fe
DESCRIPTION:Location: Santa Fe Convention Center
URL:https://tlacaelelfuentes.com/event1/art-santa-fe/
LOCATION:Santa Fe Community Convention Center\, 201 W Marcy St.\, Santa Fe\, NM\, 87501\, United States
ATTACH;FMTTYPE=image/webp:https://tlacaelelfuentes.com/wp-content/uploads/2025/11/artist-closeup-1.webp
END:VEVENT
END:VCALENDAR